BEGIN:VCALENDAR
VERSION:2.0
PRODID:-//veluwemetkinderen.nl - ECPv6.15.20//NONSGML v1.0//EN
CALSCALE:GREGORIAN
METHOD:PUBLISH
X-WR-CALNAME:veluwemetkinderen.nl
X-ORIGINAL-URL:https://www.veluwemetkinderen.nl
X-WR-CALDESC:Evenementen voor veluwemetkinderen.nl
REFRESH-INTERVAL;VALUE=DURATION:PT1H
X-Robots-Tag:noindex
X-PUBLISHED-TTL:PT1H
BEGIN:VTIMEZONE
TZID:Europe/Amsterdam
BEGIN:DAYLIGHT
TZOFFSETFROM:+0100
TZOFFSETTO:+0200
TZNAME:CEST
DTSTART:20240331T010000
END:DAYLIGHT
BEGIN:STANDARD
TZOFFSETFROM:+0200
TZOFFSETTO:+0100
TZNAME:CET
DTSTART:20241027T010000
END:STANDARD
BEGIN:DAYLIGHT
TZOFFSETFROM:+0100
TZOFFSETTO:+0200
TZNAME:CEST
DTSTART:20250330T010000
END:DAYLIGHT
BEGIN:STANDARD
TZOFFSETFROM:+0200
TZOFFSETTO:+0100
TZNAME:CET
DTSTART:20251026T010000
END:STANDARD
BEGIN:DAYLIGHT
TZOFFSETFROM:+0100
TZOFFSETTO:+0200
TZNAME:CEST
DTSTART:20260329T010000
END:DAYLIGHT
BEGIN:STANDARD
TZOFFSETFROM:+0200
TZOFFSETTO:+0100
TZNAME:CET
DTSTART:20261025T010000
END:STANDARD
END:VTIMEZONE
BEGIN:VEVENT
DTSTART;TZID=Europe/Amsterdam:20250703T180000
DTEND;TZID=Europe/Amsterdam:20250828T210000
DTSTAMP:20260423T132810
CREATED:20250701T100812Z
LAST-MODIFIED:20250731T132639Z
UID:10000516-1751565600-1756414800@www.veluwemetkinderen.nl
SUMMARY:Veluwse avondmarkten Beekbergen
DESCRIPTION:Veluwse avondmarkten Beekbergen. Elke donderdagavond in de maanden juli en augustus is er een avondmarkt waar je geniet van oude ambachten\, demonstraties en leuke snuisterijen in het centrum van Beekbergen. Een leuk event voor jong en oud.  Kom langs en geniet van de oude ambachten\, muziek en een gezellige sfeer.\nVeluwse avondmarkten Beekbergen\nNiet alleen kun je food en non food producten aanschaffen bij één van de vele marktkraampjes waar kooplui in traditionele klederdracht staan. Ontdek ook verschillende demonstraties van onder andere de spinster\, de klompenmaker of een papierschepper. De toegang is ook nog eens helemaal gratis.\nVergeet ook niet te genieten van heerlijke streekgerechten en luister naar sfeervolle muziek. De grote kerk is tijdens de avondmarkten geopend voor bezichtiging.\nPraktische info\nDe avondmarkten zijn van 18.00 uur tot 21.15 uur rondom de volgende straten: Kerkallee\, Dorpstraat en Papenberg en rondom de Hervormde Kerk. Toegang is gratis.\nMeer leuke gezinsuitjes en kinderactiviteiten? Bekijk snel de rest van onze agenda op de website.\nBron foto: Uit in Apeldoorn\n			\n				Veluwse avondmarkten
URL:https://www.veluwemetkinderen.nl/agenda/gebruiken/
LOCATION:Beekbergen\, Dorpstraat\, Beekbergen
ATTACH;FMTTYPE=image/jpeg:https://www.veluwemetkinderen.nl/wp-content/uploads/2025/06/Veluwse-avondmarkten-Beekbergen.jpg
END:VEVENT
END:VCALENDAR