BEGIN:VCALENDAR
VERSION:2.0
PRODID:-//veluwemetkinderen.nl - ECPv6.15.20//NONSGML v1.0//EN
CALSCALE:GREGORIAN
METHOD:PUBLISH
X-WR-CALNAME:veluwemetkinderen.nl
X-ORIGINAL-URL:https://www.veluwemetkinderen.nl
X-WR-CALDESC:Evenementen voor veluwemetkinderen.nl
REFRESH-INTERVAL;VALUE=DURATION:PT1H
X-Robots-Tag:noindex
X-PUBLISHED-TTL:PT1H
BEGIN:VTIMEZONE
TZID:Europe/Amsterdam
BEGIN:DAYLIGHT
TZOFFSETFROM:+0100
TZOFFSETTO:+0200
TZNAME:CEST
DTSTART:20230326T010000
END:DAYLIGHT
BEGIN:STANDARD
TZOFFSETFROM:+0200
TZOFFSETTO:+0100
TZNAME:CET
DTSTART:20231029T010000
END:STANDARD
BEGIN:DAYLIGHT
TZOFFSETFROM:+0100
TZOFFSETTO:+0200
TZNAME:CEST
DTSTART:20240331T010000
END:DAYLIGHT
BEGIN:STANDARD
TZOFFSETFROM:+0200
TZOFFSETTO:+0100
TZNAME:CET
DTSTART:20241027T010000
END:STANDARD
BEGIN:DAYLIGHT
TZOFFSETFROM:+0100
TZOFFSETTO:+0200
TZNAME:CEST
DTSTART:20250330T010000
END:DAYLIGHT
BEGIN:STANDARD
TZOFFSETFROM:+0200
TZOFFSETTO:+0100
TZNAME:CET
DTSTART:20251026T010000
END:STANDARD
BEGIN:DAYLIGHT
TZOFFSETFROM:+0100
TZOFFSETTO:+0200
TZNAME:CEST
DTSTART:20260329T010000
END:DAYLIGHT
BEGIN:STANDARD
TZOFFSETFROM:+0200
TZOFFSETTO:+0100
TZNAME:CET
DTSTART:20261025T010000
END:STANDARD
END:VTIMEZONE
BEGIN:VEVENT
DTSTART;TZID=Europe/Amsterdam:20251212T140000
DTEND;TZID=Europe/Amsterdam:20251213T163000
DTSTAMP:20260425T164253
CREATED:20250929T144214Z
LAST-MODIFIED:20250929T190100Z
UID:10000669-1765548000-1765643400@www.veluwemetkinderen.nl
SUMMARY:Dickens Fair Bennekom
DESCRIPTION:Dickens Fair Bennekom. Bezoek op vrijdag 12 en zaterdag 13 december 2025 het jaarlijkse Dickens Fair in Bennekom. Compleet in Dickens stijl is het twee dagen lang feest. Met gezellige muziek\, leuke kinderactiviteiten\, een prachtige fair. Het centrum van Bennekom wordt deze twee dagen volledig omgetoverd in een prachtige kerstfair in de stijl van Charles Dickens.\nDickens Fair in Bennekom\nVrijdag 12 december is de markt te bezoeken van 14.00 tot 21.00 uur en zaterdag 14 december van 10.00 tot 16.30 uur. Natuurlijk zal ook de kerstman een bezoekje brengen aan de fair en treden er verschillende koren en muziekgroepen op. Uiteraard is er niet alleen veel lekkers te verkrijgen bij de verschillende kraampjes\, maar vind je ook diverse gerelateerde producten in het aanbod.\nOok voor kinderen zijn er leuke activiteiten. Zo is er een draaimolen\, zijn er botsauto’s en is er een springkussen. Al dat spelen maakt natuurlijk ook hongerig en die honger stil je prima bij één van de houten kraampjes. Voor papa en mama een lekker gluhwijntje en voor de kinderen een warme chocolademelk met wat lekkers? Maak er een heerlijk gezinsuitje van.\nOp de hoogte blijven van alle kinderuitjes? Bekijk de agenda op onze website.\nBron foto: Dickens Fair \n			\n				Meer info Dickens Fair
URL:https://www.veluwemetkinderen.nl/agenda/dickens-fair-bennekom-2/
LOCATION:Bennekom\, Bennekom\, Gelderland
ATTACH;FMTTYPE=image/jpeg:https://www.veluwemetkinderen.nl/wp-content/uploads/2024/09/Dickens-Fair-Bennekom.jpg
END:VEVENT
BEGIN:VEVENT
DTSTART;VALUE=DATE:20250827
DTEND;VALUE=DATE:20250828
DTSTAMP:20260425T164253
CREATED:20250731T100046Z
LAST-MODIFIED:20250731T100508Z
UID:10000616-1756252800-1756339199@www.veluwemetkinderen.nl
SUMMARY:Vlegeldag Bennekom
DESCRIPTION:Vlegeldag Bennekom woensdag 27 augustus. Het jaarlijkse oogstfeest eind augustus in Bennekom heeft ook in 2025 weer een bomvol programma leuke activiteiten voor jong en oud.\nVlegeldag Bennekom woensdag 27 augustus\nOp 27 augustus 2025 vindt alweer de 41e Vlegeldag plaats. In het centrum van Bennekom worden tal van leuke activiteiten voor iedereen georganiseerd. Zo vindt je er de Vlegelmarkt\, maar ook een Kindervlooienmarkt. Je bekijkt diverse oude ambachten\,handdorsen en machinedorsen en een optocht van Tractoren. Leuk voor liefhebbers. Natuurlijk mag het welbekende onderdeel Vlegelhangen niet ontbreken. Tenslotte zijn er ook verschillende optochten te zien. \nDivers programma\nDe Shanty Zangers uit Ede laten hun muziek horen op het hoofdpodium. ’s Middags kan het publiek genieten van Ryso Jochemsen\, DJ Freek Steenvoorden\, Jong Belegen en Ronnie Tober. ’s Avonds zorgen René van Duijn en Marco de Hollander voor een feestelijke afsluiting van de Vlegeldag.In de muziektent op het Van Slootenplein is er ‘Muziek op Schoot’\, verzorgd door Harlekijntje. Verder zijn er verschillende optredens van OBK\, Dance Studio Bennekom en Triple B (Big Band Bennekom).  Kortom een afwisselend programma voor jong en oud! Houd de website van Vlegeldag Bennekom in de gaten voor het actuele programma.\nOp de hoogte blijven van alle kindvriendelijke activiteiten op de Veluwe? Bekijk daarvoor onze agenda!\nBron foto’s: Vlegeldag Bennekom Cees van Amersfoort\n			\n				Meer info!
URL:https://www.veluwemetkinderen.nl/agenda/vlegeldag-bennekom/
LOCATION:Bennekom\, Bennekom\, Gelderland
ATTACH;FMTTYPE=image/jpeg:https://www.veluwemetkinderen.nl/wp-content/uploads/2024/05/Vlegeldag-Bennekom.jpg
END:VEVENT
BEGIN:VEVENT
DTSTART;TZID=Europe/Amsterdam:20241213T140000
DTEND;TZID=Europe/Amsterdam:20241214T163000
DTSTAMP:20260425T164253
CREATED:20240917T103130Z
LAST-MODIFIED:20240917T103133Z
UID:10000169-1734098400-1734193800@www.veluwemetkinderen.nl
SUMMARY:Dickens Fair Bennekom
DESCRIPTION:Vrijdag 13 en zaterdag 14 december vindt het jaarlijkse Dickens Fair in Bennekom weer plaats. Compleet in Dickens stijl is het twee dagen lang feest. Met gezellige muziek\, leuke kinderactiviteiten\, een prachtige fair. Het centrum van Bennekom wordt deze twee dagen volledig omgetoverd in een prachtige kerstfair in de stijl van Charles Dickens. Houd jij van Kerst? Zet deze data dan in je agenda. \nDickens Fair in Bennekom\nVrijdag 13 december is de markt te bezoeken van 14.00 tot 21.00 uur en zaterdag 14 december van 10.00 tot 16.30 uur. Natuurlijk zal ook de kerstman een bezoekje brengen aan de fair en treden er verschillende koren en muziekgroepen op. Uiteraard is er niet alleen veel lekkers te verkrijgen bij de verschillende kraampjes\, maar vind je ook diverse gerelateerde producten in het aanbod. \nOok voor kinderen zijn er leuke activiteiten. Zo is er een draaimolen\, zijn er botsauto’s en is er een springkussen. Al dat spelen maakt natuurlijk ook hongerig en die honger stil je prima bij één van de houten kraampjes. Voor papa en mama een lekker gluhwijntje en voor de kinderen een warme chocolademelk met wat lekkers? Maak er een heerlijk gezinsuitje van. \nOp de hoogte blijven van alle kinderuitjes? Bekijk de agenda op onze website. \nBron foto: Dickens Fair  \n			\n				Meer info Dickens Fair Bennekom
URL:https://www.veluwemetkinderen.nl/agenda/dickens-fair-bennekom/
LOCATION:Bennekom\, Bennekom\, Gelderland
ATTACH;FMTTYPE=image/jpeg:https://www.veluwemetkinderen.nl/wp-content/uploads/2024/09/Dickens-Fair-Bennekom.jpg
END:VEVENT
BEGIN:VEVENT
DTSTART;VALUE=DATE:20240828
DTEND;VALUE=DATE:20240829
DTSTAMP:20260425T164253
CREATED:20240514T123040Z
LAST-MODIFIED:20240514T123239Z
UID:10000126-1724803200-1724889599@www.veluwemetkinderen.nl
SUMMARY:Vlegeldag Bennekom woensdag 28 augustus
DESCRIPTION:Vlegeldag Bennekom woensdag 28 augustus. Het jaarlijkse oogstfeest eind augustus in Bennekmo heeft ook in 2024 weer een bomvol programma leuke activiteiten voor jong en oud. \nVlegeldag Bennekom woensdag 28 augustus\nOp 28 augustus 2024 vindt alweer de 40e Vlegeldag plaats. Er wordt hard gewerkt aan het programma\, medio juli heeft de organisatie naar verwachting het programma klaar. Klik op onderstaande link om het actuele programma via Vlegeldag Bennekom te bekijken. \nDe vorige editie van Vlegeldag begon met de traditionele openingsoptocht en het in werking zetten van de grote Dorschkast uit de Kraats door de heidehoogheden. Daarna waren er diverse activiteiten\, zoals de Vlegelmarkt\, kindervlooienmarkt en demonstraties van oude ambachten\, handdorsen en machinedorsen. \nDivers programma\nDe Shanty Zangers uit Ede lieten ’s ochtends hun liederen horen op het hoofdpodium. ’s Middags kon het publiek genieten van Ryso Jochemsen\, DJ Freek Steenvoorden\, Jong Belegen en Ronnie Tober. ’s Avonds zorgden Rene van Duijn en Marco de Hollander voor een feestelijke afsluiting van de Vlegeldag.In de muziektent op het Van Slootenplein was er ‘Muziek op Schoot’\, verzorgd door Harlekijntje. Verder waren er afwisselend optredens van OBK\, Dance Studio Bennekom en Triple B (Big Band Bennekom).  Kortom een afwisselend programma voor jong en oud! \nOp de hoogte blijven van alle kindvriendelijke activiteiten op de Veluwe? Bekijk daarvoor onze agenda! \nBron foto’s: Vlegeldag Bennekom Cees van Amersfoort \n			\n				Meer info!
URL:https://www.veluwemetkinderen.nl/agenda/vlegeldag-bennekom-woensdag-28-augustus/
LOCATION:Bennekom\, Bennekom\, Gelderland
ATTACH;FMTTYPE=image/jpeg:https://www.veluwemetkinderen.nl/wp-content/uploads/2024/05/Vlegeldag-Bennekom.jpg
END:VEVENT
END:VCALENDAR