BEGIN:VCALENDAR
VERSION:2.0
PRODID:-//veluwemetkinderen.nl - ECPv6.15.20//NONSGML v1.0//EN
CALSCALE:GREGORIAN
METHOD:PUBLISH
X-ORIGINAL-URL:https://www.veluwemetkinderen.nl
X-WR-CALDESC:Evenementen voor veluwemetkinderen.nl
REFRESH-INTERVAL;VALUE=DURATION:PT1H
X-Robots-Tag:noindex
X-PUBLISHED-TTL:PT1H
BEGIN:VTIMEZONE
TZID:Europe/Amsterdam
BEGIN:DAYLIGHT
TZOFFSETFROM:+0100
TZOFFSETTO:+0200
TZNAME:CEST
DTSTART:20240331T010000
END:DAYLIGHT
BEGIN:STANDARD
TZOFFSETFROM:+0200
TZOFFSETTO:+0100
TZNAME:CET
DTSTART:20241027T010000
END:STANDARD
BEGIN:DAYLIGHT
TZOFFSETFROM:+0100
TZOFFSETTO:+0200
TZNAME:CEST
DTSTART:20250330T010000
END:DAYLIGHT
BEGIN:STANDARD
TZOFFSETFROM:+0200
TZOFFSETTO:+0100
TZNAME:CET
DTSTART:20251026T010000
END:STANDARD
BEGIN:DAYLIGHT
TZOFFSETFROM:+0100
TZOFFSETTO:+0200
TZNAME:CEST
DTSTART:20260329T010000
END:DAYLIGHT
BEGIN:STANDARD
TZOFFSETFROM:+0200
TZOFFSETTO:+0100
TZNAME:CET
DTSTART:20261025T010000
END:STANDARD
BEGIN:DAYLIGHT
TZOFFSETFROM:+0100
TZOFFSETTO:+0200
TZNAME:CEST
DTSTART:20270328T010000
END:DAYLIGHT
BEGIN:STANDARD
TZOFFSETFROM:+0200
TZOFFSETTO:+0100
TZNAME:CET
DTSTART:20271031T010000
END:STANDARD
END:VTIMEZONE
BEGIN:VEVENT
DTSTART;TZID=Europe/Amsterdam:20260101T000000
DTEND;TZID=Europe/Amsterdam:20260101T000000
DTSTAMP:20260422T175847
CREATED:20251216T121058Z
LAST-MODIFIED:20251216T121342Z
UID:10000759-1767225600-1767225600@www.veluwemetkinderen.nl
SUMMARY:Nieuwjaarsduik 2026 bij De Zanding Otterlo
DESCRIPTION:Nieuwjaarsduik 2026 bij De Zanding Otterlo. Donderdag 1 januari 2026vinden de Nieuwjaarsduiken in Nederland weer plaats. Traditiegetrouw rennen tienduizenden Nederlanders het ijskoude water in om het nieuwe jaar in te luiden. Doe jij ook mee?\nNieuwjaarsduik De Zanding Otterlo\nIJskoud het nieuwe jaar induiken. Dat is dapper\, maar niet zonder risico. Volg daarom altijd de tips van de reddingsbrigade. Wil jij het nieuwe jaar koud inluiden? Op de Veluwe kun je onder andere terecht bij de Zanding in Otterlo. Om 12.00 uur klinkt het startsein. Natuurlijk krijg je ook de oranje Unox muts. Na afloop krijg je een kop warme erwtensoep om je op te warmen.\nTips\nHoudt rekening met de tips van de Reddingsbrigade\, want zo in je bikini of zwemshort het ijskoude water inrennen is natuurlijk niet altijd zonder risico. Even de tips op een rij:\n\n\nDoe alleen mee als je je fit voelt.\n\n\nKom op tijd zodat je kunt uitzoeken waar de hulpverleners zich bevinden.\n\n\nDoe vooraf een warming-up en houd daarbij zo lang mogelijk je kleding aan.\n\n\nZet een muts op en smeer je eventueel in met vaseline tegen de kou.\n\n\nVerlies kinderen geen seconde uit het oog en houd ze bij voorkeur aan de hand.\n\n\nGa niet te ver het koude water in.\n\n\nGa zo snel mogelijk weer het koude water uit.\n\n\nWarm meteen op na de nieuwjaarsduik\, bijvoorbeeld met een warme drank of soep.\n\n\nSucces en veel plezier bij de Nieuwjaarsduik bij De Zanding op 1 januari!\nOp de hoogte blijven van alle kindvriendelijke activiteiten op de Veluwe? Bekijk daarvoor onze agenda!\nBron foto: In de buurt Ede\n			\n				Meer info!
URL:https://www.veluwemetkinderen.nl/agenda/nieuwjaarsduik-2026-bij-de-zanding-otterlo/
LOCATION:Europarcs De Zanding\, Vijverlaan 1\, Otterlo\, Gelderland\, 6731 CK
ATTACH;FMTTYPE=image/jpeg:https://www.veluwemetkinderen.nl/wp-content/uploads/2024/12/Nieuwjaarsduik-De-Zanding-Otterlo.jpg
END:VEVENT
BEGIN:VEVENT
DTSTART;TZID=Europe/Amsterdam:20250101T120000
DTEND;TZID=Europe/Amsterdam:20250101T150000
DTSTAMP:20260422T175847
CREATED:20241217T112443Z
LAST-MODIFIED:20241228T155033Z
UID:10000219-1735732800-1735743600@www.veluwemetkinderen.nl
SUMMARY:Nieuwjaarsduik bij De Zanding Otterlo
DESCRIPTION:Nieuwjaarsduik bij De Zanding Otterlo. Woensdag 1 januari 2025 vinden de Nieuwjaarsduiken in Nederland weer plaats. Traditiegetrouw rennen tienduizenden Nederlanders op 1 januari het ijskoude water in om het nieuwe jaar in te luiden. Doe jij ook mee? \nNieuwjaarsduik De Zanding Otterlo\nIJskoud het nieuwe jaar induiken. Dat is dapper\, maar niet zonder risico. Volg daarom altijd de tips van de reddingsbrigade. Wil jij het nieuwe jaar koud inluiden? Op de Veluwe kun je onder andere terecht bij de Zanding in Otterlo. Om 12.00 uur klinkt het startsein. Natuurlijk krijg je ook de oranje Unox muts. Na afloop krijg je een kop warme erwtensoep om je op te warmen.  \nTips\nHoudt rekening met de tips van de Reddingsbrigade\, want zo in je bikini of zwemshort het ijskoude water inrennen is natuurlijk niet altijd zonder risico. Even de tips op een rij: \n\nDoe alleen mee als je je fit voelt.\nKom op tijd zodat je kunt uitzoeken waar de hulpverleners zich bevinden.\nDoe vooraf een warming-up en houd daarbij zo lang mogelijk je kleding aan.\nZet een muts op en smeer je eventueel in met vaseline tegen de kou.\nVerlies kinderen geen seconde uit het oog en houd ze bij voorkeur aan de hand.\nGa niet te ver het koude water in.\nGa zo snel mogelijk weer het koude water uit.\nWarm meteen op na de nieuwjaarsduik\, bijvoorbeeld met een warme drank of soep.\n\nSucces en veel plezier bij de Nieuwjaarsduik bij De Zanding op 1 januari! \nOp de hoogte blijven van alle kindvriendelijke activiteiten op de Veluwe? Bekijk daarvoor onze agenda! \nBron foto’s: In de buurt Ede \n			\n				Meer info!
URL:https://www.veluwemetkinderen.nl/agenda/nieuwjaarsduik-bij-de-zanding-otterlo/
LOCATION:Europarcs De Zanding\, Vijverlaan 1\, Otterlo\, Gelderland\, 6731 CK
ATTACH;FMTTYPE=image/jpeg:https://www.veluwemetkinderen.nl/wp-content/uploads/2024/12/Nieuwjaarsduik-De-Zanding-Otterlo.jpg
END:VEVENT
END:VCALENDAR