BEGIN:VCALENDAR
VERSION:2.0
PRODID:-//veluwemetkinderen.nl - ECPv6.15.20//NONSGML v1.0//EN
CALSCALE:GREGORIAN
METHOD:PUBLISH
X-ORIGINAL-URL:https://www.veluwemetkinderen.nl
X-WR-CALDESC:Evenementen voor veluwemetkinderen.nl
REFRESH-INTERVAL;VALUE=DURATION:PT1H
X-Robots-Tag:noindex
X-PUBLISHED-TTL:PT1H
BEGIN:VTIMEZONE
TZID:Europe/Amsterdam
BEGIN:DAYLIGHT
TZOFFSETFROM:+0100
TZOFFSETTO:+0200
TZNAME:CEST
DTSTART:20230326T010000
END:DAYLIGHT
BEGIN:STANDARD
TZOFFSETFROM:+0200
TZOFFSETTO:+0100
TZNAME:CET
DTSTART:20231029T010000
END:STANDARD
BEGIN:DAYLIGHT
TZOFFSETFROM:+0100
TZOFFSETTO:+0200
TZNAME:CEST
DTSTART:20240331T010000
END:DAYLIGHT
BEGIN:STANDARD
TZOFFSETFROM:+0200
TZOFFSETTO:+0100
TZNAME:CET
DTSTART:20241027T010000
END:STANDARD
BEGIN:DAYLIGHT
TZOFFSETFROM:+0100
TZOFFSETTO:+0200
TZNAME:CEST
DTSTART:20250330T010000
END:DAYLIGHT
BEGIN:STANDARD
TZOFFSETFROM:+0200
TZOFFSETTO:+0100
TZNAME:CET
DTSTART:20251026T010000
END:STANDARD
BEGIN:DAYLIGHT
TZOFFSETFROM:+0100
TZOFFSETTO:+0200
TZNAME:CEST
DTSTART:20260329T010000
END:DAYLIGHT
BEGIN:STANDARD
TZOFFSETFROM:+0200
TZOFFSETTO:+0100
TZNAME:CET
DTSTART:20261025T010000
END:STANDARD
BEGIN:DAYLIGHT
TZOFFSETFROM:+0100
TZOFFSETTO:+0200
TZNAME:CEST
DTSTART:20270328T010000
END:DAYLIGHT
BEGIN:STANDARD
TZOFFSETFROM:+0200
TZOFFSETTO:+0100
TZNAME:CET
DTSTART:20271031T010000
END:STANDARD
END:VTIMEZONE
BEGIN:VEVENT
DTSTART;TZID=Europe/Amsterdam:20251206T000000
DTEND;TZID=Europe/Amsterdam:20260117T000000
DTSTAMP:20260425T164026
CREATED:20250909T140922Z
LAST-MODIFIED:20250909T141104Z
UID:10000655-1764979200-1768608000@www.veluwemetkinderen.nl
SUMMARY:Friends on Ice in Ede
DESCRIPTION:Friends on Ice Ede. Van zaterdag 6 december 2025 tot en met zaterdag 17 januari 2026 is de schaatsbaan in Ede weer geopend voor publiek.\nFriends on Ice\nHaal je schaatsen maar uit het vet\, want vanaf 6 december is het weer tijd voor schaatspret: Friends on Ice in Ede. Tot en met zaterdag 17 januari 2026 kun je hier heerlijk schaatsen op een prachtige overdekte schaatsbaan in het centrum van Ede.Er is voor elke leeftijd wat leuks. Kom daarom gezellig schaatsen met vrienden en familie. Of een lekkere warme choco drinken of wat lekkers eten. Of vier hier je kinderfeestje\, super cool!\nEn extra mooi is dat de opbrengst gaat naar verschillende goede doelen en initiatieven.Geen schaatsen? Niks aan de hand\, want die huur je voor slechts € 5\,- ter plaatse. Zelfs voor de kleinere kinderen zijn er glij- ijzers en schaatshulpjes.\nPraktische informatie\n\nDe schaatsbaan is dagelijks open tussen 6 december en 17 januari.\nMaandag tot en met donderdag: 09.00 -21.00 uur.\nVrijdag en de zaterdag : 09.00 – 22.00 uur.\nElke zondag: 12.00 -17.00 uur.\n1 uur schaatsen kost € 5\,-\n\nOp de hoogte blijven van alle kinderuitjes? Bekijk de agenda op onze website.\n			\n				Friends on Ice
URL:https://www.veluwemetkinderen.nl/agenda/schaatsen-bij-friends-on-ice-in-ede-2/
LOCATION:Friends on Ice Ede\, Raadhuisplein 1\, Ede\, Gelderland\, 6710 BS\, Nederland
ATTACH;FMTTYPE=image/jpeg:https://www.veluwemetkinderen.nl/wp-content/uploads/2023/12/Friend-on-Ice-Ede.jpg
END:VEVENT
BEGIN:VEVENT
DTSTART;TZID=Europe/Amsterdam:20241214T000000
DTEND;TZID=Europe/Amsterdam:20250125T000000
DTSTAMP:20260425T164026
CREATED:20231207T192853Z
LAST-MODIFIED:20240910T092139Z
UID:10000024-1734134400-1737763200@www.veluwemetkinderen.nl
SUMMARY:Friends on Ice in Ede
DESCRIPTION:Friends on Ice Ede. Van zaterdag 14 december 2024 tot en met zaterdag 25 januari 2025 is de schaatsbaan in Ede weer geopend voor publiek. \nFriends on Ice\nHaal je schaatsen maar uit het vet\, want vanaf 14 december is het weer tijd voor schaatspret: Friends on Ice in Ede. Tot en met zaterdag 25 januari kun je hier heerlijk schaatsen op een prachtige overdekte schaatsbaan in het centrum van Ede.Er is voor elke leeftijd wat leuks. Kom daarom gezellig schaatsen met vrienden en familie. Of een lekkere warme choco drinken of wat lekkers eten. Of vier hier je kinderfeestje\, super cool! \nEn extra mooi is dat de opbrengst gaat naar verschillende goede doelen en initiatieven.Geen schaatsen? Niks aan de hand\, want die huur je voor slechts € 4\,50\,- ter plaatse. Zelfs voor de kleinere kinderen zijn er glij- ijzers en schaatshulpjes. \nPraktische informatie\n– De schaatsbaan is dagelijks open tussen 14 december en 25 januari.– Maandag tot en met donderdag: 09.00 -21.00 uur.– Vrijdag en de zaterdag : 09.00 -22.00 uur.– Elke zondag: 12.00 -17.00 uur.– 1 uur schaatsen kost € 5\,- \nOp de hoogte blijven van alle kinderuitjes? Bekijk de agenda op onze website.  \n			\n				Friends on Ice
URL:https://www.veluwemetkinderen.nl/agenda/schaatsen-bij-friends-on-ice-in-ede/
LOCATION:Friends on Ice Ede\, Raadhuisplein 1\, Ede\, Gelderland\, 6710 BS\, Nederland
ATTACH;FMTTYPE=image/jpeg:https://www.veluwemetkinderen.nl/wp-content/uploads/2023/12/Friend-on-Ice-Ede.jpg
END:VEVENT
END:VCALENDAR