BEGIN:VCALENDAR
VERSION:2.0
PRODID:-//veluwemetkinderen.nl - ECPv6.15.20//NONSGML v1.0//EN
CALSCALE:GREGORIAN
METHOD:PUBLISH
X-WR-CALNAME:veluwemetkinderen.nl
X-ORIGINAL-URL:https://www.veluwemetkinderen.nl
X-WR-CALDESC:Evenementen voor veluwemetkinderen.nl
REFRESH-INTERVAL;VALUE=DURATION:PT1H
X-Robots-Tag:noindex
X-PUBLISHED-TTL:PT1H
BEGIN:VTIMEZONE
TZID:Europe/Amsterdam
BEGIN:DAYLIGHT
TZOFFSETFROM:+0100
TZOFFSETTO:+0200
TZNAME:CEST
DTSTART:20230326T010000
END:DAYLIGHT
BEGIN:STANDARD
TZOFFSETFROM:+0200
TZOFFSETTO:+0100
TZNAME:CET
DTSTART:20231029T010000
END:STANDARD
BEGIN:DAYLIGHT
TZOFFSETFROM:+0100
TZOFFSETTO:+0200
TZNAME:CEST
DTSTART:20240331T010000
END:DAYLIGHT
BEGIN:STANDARD
TZOFFSETFROM:+0200
TZOFFSETTO:+0100
TZNAME:CET
DTSTART:20241027T010000
END:STANDARD
BEGIN:DAYLIGHT
TZOFFSETFROM:+0100
TZOFFSETTO:+0200
TZNAME:CEST
DTSTART:20250330T010000
END:DAYLIGHT
BEGIN:STANDARD
TZOFFSETFROM:+0200
TZOFFSETTO:+0100
TZNAME:CET
DTSTART:20251026T010000
END:STANDARD
BEGIN:DAYLIGHT
TZOFFSETFROM:+0100
TZOFFSETTO:+0200
TZNAME:CEST
DTSTART:20260329T010000
END:DAYLIGHT
BEGIN:STANDARD
TZOFFSETFROM:+0200
TZOFFSETTO:+0100
TZNAME:CET
DTSTART:20261025T010000
END:STANDARD
END:VTIMEZONE
BEGIN:VEVENT
DTSTART;TZID=Europe/Amsterdam:20251229T100000
DTEND;TZID=Europe/Amsterdam:20251230T163000
DTSTAMP:20260426T033159
CREATED:20251202T091605Z
LAST-MODIFIED:20251202T091609Z
UID:10000741-1767002400-1767112200@www.veluwemetkinderen.nl
SUMMARY:Crazy Spring Paradijs Barneveld
DESCRIPTION:Crazy Spring Paradijs Barneveld. In de kerstvakantie kunnen kinderen op maandag 29 en dinsdag 30 december 2025 twee dagen plezier maken tijdens het dit spring festijn in Barneveld.\nCrazy Spring Paradijs Barneveld\nGek op springen en klimmen? Kom dan langs bij het Crazy Spring Paradijs festijn in de Veluwehal in Barneveld. Twee dagen lang kunnen kinderen alle energie kwijt op de tientallen springkussens. Zowel voor jongere als de oudere kinderen is er genoeg vertier. Kom lekker\, springen\, klimmen\, rennen en bovenal plezier maken.\nHoreca is aanwezig en ouders kunnen genieten van een lekker bakje koffie/thee terwijl kinderen zich uitelven.\nHandige informatie\nDe entree voor de ouders is gratis. Kinderen betalen: € 7\,50\,- per kind. Het springfestijn is op maandag 29 en dinsdag 30 december 2025 van 10.00 -16.30 uur geopend. De locatie is de Optisport Veluwehal. Ook is de horeca geopend voor een hapje en drankje. Parkeren kun je bij de Optisport locatie tegen betaling.\nMeer leuke kinderactiviteiten in de kerstvakantie? Check onze agenda voor nog meer tips!\nBron foto: Crazy Spring Paradijs\n			\n				Meer info!
URL:https://www.veluwemetkinderen.nl/agenda/crazy-spring-paradijs-barneveld/
LOCATION:Optisport Veluwehal\, Nieuwe Markt 6\, Barneveld\, Gelderland\, 3771 CB\, Nederland
ATTACH;FMTTYPE=image/jpeg:https://www.veluwemetkinderen.nl/wp-content/uploads/2025/12/Crazy-Spring-Paradijs-Barneveld-2025.jpg
END:VEVENT
BEGIN:VEVENT
DTSTART;TZID=Europe/Amsterdam:20250102T100000
DTEND;TZID=Europe/Amsterdam:20250104T163000
DTSTAMP:20260426T033159
CREATED:20241217T111033Z
LAST-MODIFIED:20241217T111037Z
UID:10000218-1735812000-1736008200@www.veluwemetkinderen.nl
SUMMARY:Vakantietip Crazy Spring Paradijs Barneveld
DESCRIPTION:Vakantietip: Crazy Spring Paradijs Barneveld. Zijn de kinderen gek op klimmen\, klauteren en springen? Dan moet je echt een bezoek brengen aan het Crazy Spring Paradijs in de Optisport Veluwehal in Barneveld. \nGroot springfestijn\nIn de kerstvakantie tussen 2 en 4 januari kunnen kinderen hun jumpskills laten zien op verschillende springkussens. Vanaf donderdag 2 januari tot en met zaterdag 4 januari organiseert Crazy Air het Crazy Spring Paradijs in de Veluwehal Barneveld. Tussen 10.00 en 16.30 uur springen en klimmen kinderen op heel veel springskussens. Of je nu een echte durfal bent of liever wat voorzichtiger\, er is voor elke springer wat leuks!  Ook zijn er toffe andere attracties. \nOuders ook welkom\nNatuurlijk zijn ouders ook van harte welkom. Voor hen is er een speciale zithoek met wifi aanwezig. Even lekker doorwerken of toch zelf ook jumpskills tonen? Aan jou de keus!Uiteraard is er horeca aanwezig. Speciaal voor de kinderen zijn er Bras en Bunkerkaarten aanwezig. Hiermee bepalen ze zelf wat én wanneer ze wat lekkers nuttigen. \nEen toegangskaartje kost € 7\,50- per kind. Ouders hebben gratis entree. Meer informatie en kaarten reserveren doe je via onderstaande button. \nOp de hoogte blijven van alle kerstvakantie activiteiten? Ga dan naar de agenda op de website. \n			\n				Crazy Spring Paradijs
URL:https://www.veluwemetkinderen.nl/agenda/vakantietip-crazy-spring-paradijs-barneveld/
LOCATION:Optisport Veluwehal\, Nieuwe Markt 6\, Barneveld\, Gelderland\, 3771 CB\, Nederland
ATTACH;FMTTYPE=image/jpeg:https://www.veluwemetkinderen.nl/wp-content/uploads/2024/12/Crazy-Spring-paradijs-Barneveld.jpg
END:VEVENT
BEGIN:VEVENT
DTSTART;TZID=Europe/Amsterdam:20240222T100000
DTEND;TZID=Europe/Amsterdam:20240223T163000
DTSTAMP:20260426T033159
CREATED:20240111T151859Z
LAST-MODIFIED:20240111T151903Z
UID:10000054-1708596000-1708705800@www.veluwemetkinderen.nl
SUMMARY:vakantietip Crazy Spring Paradijs
DESCRIPTION:Nog een aantal weken en dan staat ook de voorjaarsvakantie weer voor de deur. Heb je nog geen plannen gemaakt? Zet deze leuke kinderactiviteit dan in de agenda. En heb jij energieke kids thuis? Stuur ze dan naar het Crazy Spring Paradijs bij Optisport De Veluwehal in Barneveld op donderdag 22 en vrijdag 23 februari. Tussen 10.00 en 16.30 uur kunnen kinderen van alle leeftijden\, maar tot ca.12 jaar springen op verschillende springkussens. Groot\, klein\, een echte durfal of liever wat voorzichtiger. Er is voor elk kindje wat wils. \nKosten per kind: € 6\,80\,-Volwassenen: gratis \nmeer informatie over deze kinderactiviteit vind je hier.  \nBron foto: Optisport Veluwehal
URL:https://www.veluwemetkinderen.nl/agenda/vakantietip-crazy-spring-paradijs/
LOCATION:Optisport Veluwehal\, Nieuwe Markt 6\, Barneveld\, Gelderland\, 3771 CB\, Nederland
ATTACH;FMTTYPE=image/jpeg:https://www.veluwemetkinderen.nl/wp-content/uploads/2024/01/Crazy-spring-paradijs-voorjaarsvakantie-agenda.jpg
END:VEVENT
BEGIN:VEVENT
DTSTART;TZID=Europe/Amsterdam:20240104T100000
DTEND;TZID=Europe/Amsterdam:20240105T163000
DTSTAMP:20260426T033159
CREATED:20231121T190526Z
LAST-MODIFIED:20231121T191631Z
UID:10000019-1704362400-1704472200@www.veluwemetkinderen.nl
SUMMARY:Springen bij Crazy Springparadijs in de kerstvakantie
DESCRIPTION:Heb jij nog geen plannen voor de Kerstvakantie? En houd je wel van een beetje klimmen\, klauteren en springen? Dan moet je echt een bezoek brengen aan het Crazy Spring Paradijs in de Optisport Veluwehal locatie in Barneveld. \nTientallen luchtkussensOp 4 en 5 januari is de sporthal volledig omgetoverd tot een heus springfestijn.  Tussen 10.00 en 16.30 uur spring jij op beide dagen op tientallen springkussens. Of je nu een echte durfal bent of liever wat voorzichtiger\, er is voor elke springer wat leuks!  Ook zijn er toffe andere attracties\, maar welke … dat ontdek je vanzelf op 4 en 5 januari! \nOuders ook welkomNatuurlijk zijn de ouders ook van harte welkom. Voor hen is er een speciale zithoek met wifi aanwezig. Kunnen ze nog lekker even werken óf stiekem mee springen\, want ook dat kan!Uiteraard is er horeca aanwezig. Speciaal voor kids zijn er Bras en Bunkerkaarten aanwezig. Hiermee bepalen ze zelf wat én wanneer ze wat lekkers nuttigen. \nEen toegangskaartje kost € 6\,80\,- per kind. Ouders zijn gratis. Meer informatie en kaarten reserveren doe je hier. \nBron foto: Crazy Spring Paradijs
URL:https://www.veluwemetkinderen.nl/agenda/springen-bij-crazy-springparadijs-in-de-kerstvakantie/
LOCATION:Optisport Veluwehal\, Nieuwe Markt 6\, Barneveld\, Gelderland\, 3771 CB\, Nederland
ATTACH;FMTTYPE=image/jpeg:https://www.veluwemetkinderen.nl/wp-content/uploads/2023/11/Afbeelding-Crazy-Spring-paradijs-Barneveld-verkleind-agenda.jpg
END:VEVENT
END:VCALENDAR